BEGIN:VCALENDAR
VERSION:2.0
PRODID:-//Investing with North Minneapolis - ECPv6.15.17//NONSGML v1.0//EN
CALSCALE:GREGORIAN
METHOD:PUBLISH
X-WR-CALNAME:Investing with North Minneapolis
X-ORIGINAL-URL:https://www.investingwithnorthmpls.info
X-WR-CALDESC:Events for Investing with North Minneapolis
REFRESH-INTERVAL;VALUE=DURATION:PT1H
X-Robots-Tag:noindex
X-PUBLISHED-TTL:PT1H
BEGIN:VTIMEZONE
TZID:America/Chicago
BEGIN:DAYLIGHT
TZOFFSETFROM:-0600
TZOFFSETTO:-0500
TZNAME:CDT
DTSTART:20210314T080000
END:DAYLIGHT
BEGIN:STANDARD
TZOFFSETFROM:-0500
TZOFFSETTO:-0600
TZNAME:CST
DTSTART:20211107T070000
END:STANDARD
BEGIN:DAYLIGHT
TZOFFSETFROM:-0600
TZOFFSETTO:-0500
TZNAME:CDT
DTSTART:20220313T080000
END:DAYLIGHT
BEGIN:STANDARD
TZOFFSETFROM:-0500
TZOFFSETTO:-0600
TZNAME:CST
DTSTART:20221106T070000
END:STANDARD
BEGIN:DAYLIGHT
TZOFFSETFROM:-0600
TZOFFSETTO:-0500
TZNAME:CDT
DTSTART:20230312T080000
END:DAYLIGHT
BEGIN:STANDARD
TZOFFSETFROM:-0500
TZOFFSETTO:-0600
TZNAME:CST
DTSTART:20231105T070000
END:STANDARD
BEGIN:DAYLIGHT
TZOFFSETFROM:-0600
TZOFFSETTO:-0500
TZNAME:CDT
DTSTART:20240310T080000
END:DAYLIGHT
BEGIN:STANDARD
TZOFFSETFROM:-0500
TZOFFSETTO:-0600
TZNAME:CST
DTSTART:20241103T070000
END:STANDARD
END:VTIMEZONE
BEGIN:VEVENT
DTSTART;TZID=America/Chicago:20231209T130000
DTEND;TZID=America/Chicago:20231209T160000
DTSTAMP:20260424T010135
CREATED:20231101T004726Z
LAST-MODIFIED:20231101T004726Z
UID:1326-1702126800-1702137600@www.investingwithnorthmpls.info
SUMMARY:Investing with North Minneapolis Celebration!
DESCRIPTION:
URL:https://www.investingwithnorthmpls.info/event/investing-with-north-minneapolis-celebration/
LOCATION:Farview Park\, 621 N 29th Ave\, Minneapolis\, MN\, 55414\, United States
END:VEVENT
BEGIN:VEVENT
DTSTART;TZID=America/Chicago:20231207T133000
DTEND;TZID=America/Chicago:20231207T173000
DTSTAMP:20260424T010135
CREATED:20230812T214959Z
LAST-MODIFIED:20230812T221211Z
UID:1001-1701955800-1701970200@www.investingwithnorthmpls.info
SUMMARY:University of Minnesota Final Project Review
DESCRIPTION:The Fall 2023 University of Minnesota Students will present their semester work stewarding and pursuing the various projects in the Investing with North Minneapolis project at Rapson Hall. At the final review\, they will demonstrate the labor and coordination of the Investing with North Minneapolis team and the results thereof. \nThese events are subject to change with the upcoming College of Design Schedule.
URL:https://www.investingwithnorthmpls.info/event/university-of-minnesota-final-project-review/
LOCATION:Rapson Hall\, 89 Church St. SE\, Minneapolis\, MN\, 55455\, United States
CATEGORIES:Student Review
ATTACH;FMTTYPE=image/jpeg:https://www.investingwithnorthmpls.info/wp-content/uploads/2023/08/Fall-2022_students.jpeg
END:VEVENT
BEGIN:VEVENT
DTSTART;TZID=America/Chicago:20231115T133000
DTEND;TZID=America/Chicago:20231115T133000
DTSTAMP:20260424T010135
CREATED:20230812T221146Z
LAST-MODIFIED:20230831T194744Z
UID:1005-1700055000-1700055000@www.investingwithnorthmpls.info
SUMMARY:Urban Schematic Design and Small Projects Review
DESCRIPTION:This is one of several Investing with North Minneapolis project reviews\, where the Masters of Architecture Students will present their work performed on the various component projects of the Investing in North Minneapolis project. \nThese events are subject to change with the upcoming College of Design Schedule.
URL:https://www.investingwithnorthmpls.info/event/project-review-4/
LOCATION:Farview Park\, 621 N 29th Ave\, Minneapolis\, MN\, 55414\, United States
END:VEVENT
BEGIN:VEVENT
DTSTART;TZID=America/Chicago:20231104T113000
DTEND;TZID=America/Chicago:20231104T140000
DTSTAMP:20260424T010135
CREATED:20231101T004317Z
LAST-MODIFIED:20231101T004317Z
UID:1324-1699097400-1699106400@www.investingwithnorthmpls.info
SUMMARY:Come and Co-Design Event #3
DESCRIPTION:
URL:https://www.investingwithnorthmpls.info/event/come-and-co-design-event-3/
LOCATION:Farview Park\, 621 N 29th Ave\, Minneapolis\, MN\, 55414\, United States
END:VEVENT
BEGIN:VEVENT
DTSTART;TZID=America/Chicago:20231025T133000
DTEND;TZID=America/Chicago:20231025T173000
DTSTAMP:20260424T010135
CREATED:20230812T221647Z
LAST-MODIFIED:20230831T193550Z
UID:1008-1698240600-1698255000@www.investingwithnorthmpls.info
SUMMARY:Urban Project Proposals Review
DESCRIPTION:This is one of several Investing with North Minneapolis project reviews\, where the Masters of Architecture Students will present their work performed on the various component projects of the Investing in North Minneapolis project. \nThese events are subject to change with the upcoming College of Design Schedule.
URL:https://www.investingwithnorthmpls.info/event/project-review/
LOCATION:Farview Park\, 621 N 29th Ave\, Minneapolis\, MN\, 55414\, United States
CATEGORIES:Student Review
ATTACH;FMTTYPE=image/jpeg:https://www.investingwithnorthmpls.info/wp-content/uploads/2023/08/review-image.jpg
END:VEVENT
BEGIN:VEVENT
DTSTART;TZID=America/Chicago:20231014T110000
DTEND;TZID=America/Chicago:20231014T130000
DTSTAMP:20260424T010135
CREATED:20230812T213404Z
LAST-MODIFIED:20230812T213404Z
UID:998-1697281200-1697288400@www.investingwithnorthmpls.info
SUMMARY:Come and Codesign Workshop 3
DESCRIPTION:Walk\, talk\, and draw with the Investing with North Minneapolis team! Shawn Lewis of the Minneapolis Parks Foundation will lead a walk down 26th Avenue to and from the Mississippi River Overlook. We’ll meet back at Farview at the end for snacks and swapping stories.
URL:https://www.investingwithnorthmpls.info/event/come-and-codesign-workshop-3/
LOCATION:Farview Park\, 621 N 29th Ave\, Minneapolis\, MN\, 55414\, United States
ATTACH;FMTTYPE=image/jpeg:https://www.investingwithnorthmpls.info/wp-content/uploads/2023/08/codesign-3-cover.jpg
END:VEVENT
BEGIN:VEVENT
DTSTART;TZID=America/Chicago:20231011T133000
DTEND;TZID=America/Chicago:20231011T173000
DTSTAMP:20260424T010135
CREATED:20230812T221748Z
LAST-MODIFIED:20230831T193526Z
UID:1011-1697031000-1697045400@www.investingwithnorthmpls.info
SUMMARY:Design Options at 2 Scales Review
DESCRIPTION:This is one of several Investing with North Minneapolis project reviews\, where the Masters of Architecture Students will present their work performed on the various component projects of the Investing in North Minneapolis project. \nThese events are subject to change with the upcoming College of Design Schedule.
URL:https://www.investingwithnorthmpls.info/event/project-review-2/
LOCATION:Farview Park\, 621 N 29th Ave\, Minneapolis\, MN\, 55414\, United States
CATEGORIES:Student Review
ATTACH;FMTTYPE=image/jpeg:https://www.investingwithnorthmpls.info/wp-content/uploads/2023/08/review-image.jpg
END:VEVENT
BEGIN:VEVENT
DTSTART;TZID=America/Chicago:20231010T150000
DTEND;TZID=America/Chicago:20231010T190000
DTSTAMP:20260424T010135
CREATED:20230825T152128Z
LAST-MODIFIED:20230825T152128Z
UID:1027-1696950000-1696964400@www.investingwithnorthmpls.info
SUMMARY:Community Day
DESCRIPTION:Community Day at UROC celebrates the university and community partnerships that happen every day at the Robert J. Jones Urban Research and Outreach Engagement Center. The open house today has displays from many of the projects that work at UROC\, including this one! Live music\, food by local chefs\, and more will be there today! UROC will also be hosting a special program by Executive Director Makeda Zulo and a preview of the new UROC podcast\, Rules of Engagement. During the program\, ASL interpretation will be provided\, and the event is free and open to the public.
URL:https://www.investingwithnorthmpls.info/event/community-day/
LOCATION:MN
ATTACH;FMTTYPE=image/png:https://www.investingwithnorthmpls.info/wp-content/uploads/2023/08/screenshot_2023-07-27_at_8.20.11_pm.png
END:VEVENT
BEGIN:VEVENT
DTSTART;TZID=America/Chicago:20230930T110000
DTEND;TZID=America/Chicago:20230930T130000
DTSTAMP:20260424T010135
CREATED:20230812T203106Z
LAST-MODIFIED:20230812T203106Z
UID:993-1696071600-1696078800@www.investingwithnorthmpls.info
SUMMARY:Come and Co-Design at Farview Park
DESCRIPTION:Walk\, talk\, and draw with the Investing with North Minneapolis team! Discuss intern designed safe neighborhood walking routes and landmarks\, before meeting at the end to share snacks and stories. North Park Commons neighbors (PTO) will be our guest speakers.
URL:https://www.investingwithnorthmpls.info/event/come-and-co-design-at-farview-park/
LOCATION:Farview Park\, 621 N 29th Ave\, Minneapolis\, MN\, 55414\, United States
CATEGORIES:Co-Design events
ATTACH;FMTTYPE=image/jpeg:https://www.investingwithnorthmpls.info/wp-content/uploads/2023/08/codesign-2-cover.jpg
END:VEVENT
BEGIN:VEVENT
DTSTART;TZID=America/Chicago:20230918T133000
DTEND;TZID=America/Chicago:20230918T173000
DTSTAMP:20260424T010135
CREATED:20230812T222539Z
LAST-MODIFIED:20230831T193152Z
UID:1013-1695043800-1695058200@www.investingwithnorthmpls.info
SUMMARY:Stewarding North Minneapolis Design Options Review
DESCRIPTION:This is one of several Investing with North Minneapolis project reviews\, where the Masters of Architecture Students will present their work performed on the various component projects of the Investing in North Minneapolis project. \nThese events are subject to change with the upcoming College of Design Schedule.
URL:https://www.investingwithnorthmpls.info/event/project-review-3/
LOCATION:Rapson Hall\, 89 Church St. SE\, Minneapolis\, MN\, 55455\, United States
CATEGORIES:Student Review
ATTACH;FMTTYPE=image/jpeg:https://www.investingwithnorthmpls.info/wp-content/uploads/2023/08/review-image.jpg
END:VEVENT
BEGIN:VEVENT
DTSTART;TZID=America/Chicago:20230916T110000
DTEND;TZID=America/Chicago:20230916T130000
DTSTAMP:20260424T010135
CREATED:20230812T201907Z
LAST-MODIFIED:20230812T202541Z
UID:987-1694862000-1694869200@www.investingwithnorthmpls.info
SUMMARY:Come and Co-design at Open Streets West Broadway
DESCRIPTION:An opportunity to get to know and experience the neighborhood of North Minneapolis. Meet and share stories at the end. Michael Chaney from Project Sweetie Pie will be our guest speaker.
URL:https://www.investingwithnorthmpls.info/event/codesign-1/
LOCATION:MN
CATEGORIES:Co-Design events
ATTACH;FMTTYPE=image/jpeg:https://www.investingwithnorthmpls.info/wp-content/uploads/2023/08/codesign-1-cover.jpg
END:VEVENT
BEGIN:VEVENT
DTSTART;VALUE=DATE:20221216
DTEND;VALUE=DATE:20221217
DTSTAMP:20260424T010135
CREATED:20230901T021453Z
LAST-MODIFIED:20230901T021453Z
UID:1207-1671148800-1671235199@www.investingwithnorthmpls.info
SUMMARY:Community Class Review 3
DESCRIPTION:
URL:https://www.investingwithnorthmpls.info/event/community-class-review-3/
LOCATION:Farview Park\, 621 N 29th Ave\, Minneapolis\, MN\, 55414\, United States
CATEGORIES:Student Review
ATTACH;FMTTYPE=image/jpeg:https://www.investingwithnorthmpls.info/wp-content/uploads/2023/08/IMG_0717-scaled.jpg
END:VEVENT
BEGIN:VEVENT
DTSTART;VALUE=DATE:20221209
DTEND;VALUE=DATE:20221210
DTSTAMP:20260424T010135
CREATED:20230901T021916Z
LAST-MODIFIED:20230901T021916Z
UID:1215-1670544000-1670630399@www.investingwithnorthmpls.info
SUMMARY:Class Celebration
DESCRIPTION:
URL:https://www.investingwithnorthmpls.info/event/class-celebration/
LOCATION:Farview Park\, 621 N 29th Ave\, Minneapolis\, MN\, 55414\, United States
CATEGORIES:Co-Design events,Student Review
ATTACH;FMTTYPE=image/jpeg:https://www.investingwithnorthmpls.info/wp-content/uploads/2023/08/IMG_9802.jpg
END:VEVENT
BEGIN:VEVENT
DTSTART;TZID=America/Chicago:20221205T080000
DTEND;TZID=America/Chicago:20221205T170000
DTSTAMP:20260424T010135
CREATED:20230831T214439Z
LAST-MODIFIED:20230831T214439Z
UID:1115-1670227200-1670259600@www.investingwithnorthmpls.info
SUMMARY:2022 Final Review
DESCRIPTION:This review took place at Rapson Hall and had our lovely students and interns showing off their work on the Investing with North Minneapolis project! This was the culmination of a semester’s worth of work by everyone involved\, and we’re very proud of them.
URL:https://www.investingwithnorthmpls.info/event/2022-final-review/
LOCATION:Rapson Hall\, 89 Church St. SE\, Minneapolis\, MN\, 55455\, United States
CATEGORIES:Student Review
ATTACH;FMTTYPE=image/jpeg:https://www.investingwithnorthmpls.info/wp-content/uploads/2023/08/Fall-2022_students.jpeg
END:VEVENT
BEGIN:VEVENT
DTSTART;TZID=America/Chicago:20221026T080000
DTEND;TZID=America/Chicago:20221026T170000
DTSTAMP:20260424T010135
CREATED:20230901T020745Z
LAST-MODIFIED:20230901T020745Z
UID:1204-1666771200-1666803600@www.investingwithnorthmpls.info
SUMMARY:Community Class Review 2
DESCRIPTION:
URL:https://www.investingwithnorthmpls.info/event/community-class-review-2/
LOCATION:Farview Park\, 621 N 29th Ave\, Minneapolis\, MN\, 55414\, United States
CATEGORIES:Student Review
END:VEVENT
BEGIN:VEVENT
DTSTART;TZID=America/Chicago:20221015T080000
DTEND;TZID=America/Chicago:20221015T170000
DTSTAMP:20260424T010135
CREATED:20230901T020011Z
LAST-MODIFIED:20230901T020011Z
UID:1196-1665820800-1665853200@www.investingwithnorthmpls.info
SUMMARY:Come and Co-Design 2022: October 15
DESCRIPTION:
URL:https://www.investingwithnorthmpls.info/event/come-and-co-design-2022-october-15/
LOCATION:Farview Park\, 621 N 29th Ave\, Minneapolis\, MN\, 55414\, United States
CATEGORIES:Co-Design events
ATTACH;FMTTYPE=image/jpeg:https://www.investingwithnorthmpls.info/wp-content/uploads/2023/08/Co-D2-Spike-Moss-_-Shanasha-Whitson-1-scaled.jpeg
END:VEVENT
BEGIN:VEVENT
DTSTART;TZID=America/Chicago:20221012T080000
DTEND;TZID=America/Chicago:20221012T170000
DTSTAMP:20260424T010135
CREATED:20230901T015535Z
LAST-MODIFIED:20230901T015535Z
UID:1188-1665561600-1665594000@www.investingwithnorthmpls.info
SUMMARY:Community Project Review 1
DESCRIPTION:
URL:https://www.investingwithnorthmpls.info/event/community-project-review-1/
LOCATION:MN
CATEGORIES:Student Review
ATTACH;FMTTYPE=image/jpeg:https://www.investingwithnorthmpls.info/wp-content/uploads/2023/08/Rev-1-C144D58E-D3C9-470F-9877-90BE0770B439-2EmilySanchez.jpg
END:VEVENT
BEGIN:VEVENT
DTSTART;VALUE=DATE:20221005
DTEND;VALUE=DATE:20221006
DTSTAMP:20260424T010135
CREATED:20230901T015049Z
LAST-MODIFIED:20230901T015049Z
UID:1181-1664928000-1665014399@www.investingwithnorthmpls.info
SUMMARY:Upper Harbor Terminal Site Visit
DESCRIPTION:
URL:https://www.investingwithnorthmpls.info/event/upper-harbor-terminal-site-visit/
LOCATION:MN
ATTACH;FMTTYPE=image/jpeg:https://www.investingwithnorthmpls.info/wp-content/uploads/2023/08/UpperHarbTermInterns745410C6-64BB-43E5-8C6F-A6F078A73352-2EmilySanchez.jpg
END:VEVENT
BEGIN:VEVENT
DTSTART;VALUE=DATE:20221004
DTEND;VALUE=DATE:20221005
DTSTAMP:20260424T010135
CREATED:20230901T014506Z
LAST-MODIFIED:20230901T014506Z
UID:1174-1664841600-1664927999@www.investingwithnorthmpls.info
SUMMARY:Eden Garden/Deedee's Foods Volunteering
DESCRIPTION:
URL:https://www.investingwithnorthmpls.info/event/eden-garden-deedees-foods-volunteering/
LOCATION:MN
ATTACH;FMTTYPE=image/jpeg:https://www.investingwithnorthmpls.info/wp-content/uploads/2023/08/All-class-volunteers-October-3.jpg
END:VEVENT
BEGIN:VEVENT
DTSTART;VALUE=DATE:20221001
DTEND;VALUE=DATE:20221002
DTSTAMP:20260424T010135
CREATED:20230901T011435Z
LAST-MODIFIED:20230901T011550Z
UID:1166-1664582400-1664668799@www.investingwithnorthmpls.info
SUMMARY:Come and Co-Design 2022 kick-off
DESCRIPTION:Our first Come and Co-Design Event was at Farview Park on October 1 2022! We met a lot of you lovely people and learned a lot about your ideas for North Minneapolis! \n 
URL:https://www.investingwithnorthmpls.info/event/come-and-co-design-2022-kick-off/
LOCATION:Farview Park\, 621 N 29th Ave\, Minneapolis\, MN\, 55414\, United States
CATEGORIES:Co-Design events
ATTACH;FMTTYPE=image/jpeg:https://www.investingwithnorthmpls.info/wp-content/uploads/2023/08/CoD1-CassidyLillyJuliaGregSvannah_Julia-TimG.jpeg
END:VEVENT
BEGIN:VEVENT
DTSTART;VALUE=DATE:20220910
DTEND;VALUE=DATE:20220911
DTSTAMP:20260424T010135
CREATED:20230901T010834Z
LAST-MODIFIED:20230901T011503Z
UID:1160-1662768000-1662854399@www.investingwithnorthmpls.info
SUMMARY:Open Streets Broadway
DESCRIPTION:We spent some time at the Open Streets Broadway event in 2022! The Investing with North Minneapolis team had a table and met a lot of lovely people!
URL:https://www.investingwithnorthmpls.info/event/open-streets-broadway/
LOCATION:West Broadway Ave.\, 1200-1246 W Broadway\, Minneapolis\, MN 55411\, Minneapolis\, 55411\, United States
CATEGORIES:Co-Design events
ATTACH;FMTTYPE=image/jpeg:https://www.investingwithnorthmpls.info/wp-content/uploads/2023/08/codesign-1-cover.jpg
END:VEVENT
END:VCALENDAR